BEGIN:VCALENDAR
VERSION:2.0
PRODID:-// - ECPv6.15.20//NONSGML v1.0//EN
CALSCALE:GREGORIAN
METHOD:PUBLISH
X-ORIGINAL-URL:https://fromagerie-dresden.de
X-WR-CALDESC:Veranstaltungen für 
REFRESH-INTERVAL;VALUE=DURATION:PT1H
X-Robots-Tag:noindex
X-PUBLISHED-TTL:PT1H
BEGIN:VTIMEZONE
TZID:Europe/Paris
BEGIN:DAYLIGHT
TZOFFSETFROM:+0100
TZOFFSETTO:+0200
TZNAME:CEST
DTSTART:20250330T010000
END:DAYLIGHT
BEGIN:STANDARD
TZOFFSETFROM:+0200
TZOFFSETTO:+0100
TZNAME:CET
DTSTART:20251026T010000
END:STANDARD
BEGIN:DAYLIGHT
TZOFFSETFROM:+0100
TZOFFSETTO:+0200
TZNAME:CEST
DTSTART:20260329T010000
END:DAYLIGHT
BEGIN:STANDARD
TZOFFSETFROM:+0200
TZOFFSETTO:+0100
TZNAME:CET
DTSTART:20261025T010000
END:STANDARD
BEGIN:DAYLIGHT
TZOFFSETFROM:+0100
TZOFFSETTO:+0200
TZNAME:CEST
DTSTART:20270328T010000
END:DAYLIGHT
BEGIN:STANDARD
TZOFFSETFROM:+0200
TZOFFSETTO:+0100
TZNAME:CET
DTSTART:20271031T010000
END:STANDARD
END:VTIMEZONE
BEGIN:VEVENT
DTSTART;TZID=Europe/Paris:20260307T170000
DTEND;TZID=Europe/Paris:20260307T190000
DTSTAMP:20260419T153331
CREATED:20251121T160439Z
LAST-MODIFIED:20260213T101521Z
UID:1398-1772902800-1772910000@fromagerie-dresden.de
SUMMARY:Genießerabend – Eine kulinarische Reise durch die Welt der Käse
DESCRIPTION:aktuell 2 freie Plätze Genießen Sie eine kleine Vorspeise\, gefolgt von 10 verschiedenen Käse in Begleitung mit einer Auswahl von Weinen\, Broten und Soßen. Der Preis pro Person liegt bei 59€
URL:https://fromagerie-dresden.de/event/geniesserabend-eine-kulinarische-reise-durch-die-welt-der-kaese-7/
END:VEVENT
BEGIN:VEVENT
DTSTART;TZID=Europe/Paris:20260313T190000
DTEND;TZID=Europe/Paris:20260313T210000
DTSTAMP:20260419T153331
CREATED:20251121T162436Z
LAST-MODIFIED:20260227T134350Z
UID:1422-1773428400-1773435600@fromagerie-dresden.de
SUMMARY:Gin- Käse- Special - Eine spannende Kombination\, die Lust auf mehr macht
DESCRIPTION:aktuell 4 freie Plätze Genießen Sie eine kleine Vorspeise\, gefolgt von 10 verschiedenen Käse in Begleitung mit einer Auswahl von 5 verschiedenen Gins\, Broten und Soßen. Der Preis pro Person liegt bei 79€
URL:https://fromagerie-dresden.de/event/gin-kaese-special-eine-spannende-kombination-die-lust-auf-mehr-macht-2/
END:VEVENT
BEGIN:VEVENT
DTSTART;TZID=Europe/Paris:20260318T190000
DTEND;TZID=Europe/Paris:20260318T210000
DTSTAMP:20260419T153331
CREATED:20251121T160542Z
LAST-MODIFIED:20260120T125247Z
UID:1400-1773860400-1773867600@fromagerie-dresden.de
SUMMARY:Eine keine Italienreise - Mehr als nur Parmesan und Chianti
DESCRIPTION:aktuell 2 freie Plätze Genießen Sie eine kleine Vorspeise\, gefolgt von 10 verschiedenen ital. Käse in Begleitung mit einer Auswahl von ital. Weinen\, Broten und Soßen. Der Preis pro Person liegt bei 59€
URL:https://fromagerie-dresden.de/event/geniesserabend-eine-kulinarische-reise-durch-die-welt-der-kaese-8/
END:VEVENT
BEGIN:VEVENT
DTSTART;TZID=Europe/Paris:20260327T190000
DTEND;TZID=Europe/Paris:20260327T210000
DTSTAMP:20260419T153331
CREATED:20251121T160649Z
LAST-MODIFIED:20260314T105802Z
UID:1402-1774638000-1774645200@fromagerie-dresden.de
SUMMARY:Genießerabend – Eine kulinarische Reise durch die Welt der Käse
DESCRIPTION:aktuell -AUSGEBUCHT- Genießen Sie eine kleine Vorspeise\, gefolgt von 10 verschiedenen Käse in Begleitung mit einer Auswahl von Weinen\, Broten und Soßen. Der Preis pro Person liegt bei 59€
URL:https://fromagerie-dresden.de/event/geniesserabend-eine-kulinarische-reise-durch-die-welt-der-kaese-9/
END:VEVENT
BEGIN:VEVENT
DTSTART;TZID=Europe/Paris:20260328T170000
DTEND;TZID=Europe/Paris:20260328T190000
DTSTAMP:20260419T153331
CREATED:20260120T125704Z
LAST-MODIFIED:20260227T134435Z
UID:1462-1774717200-1774724400@fromagerie-dresden.de
SUMMARY:Genießerabend – Eine kulinarische Reise durch die Welt der Käse
DESCRIPTION:aktuell – 4 freie Plätze  Genießen Sie eine kleine Vorspeise\, gefolgt von 10 verschiedenen Käse in Begleitung mit einer Auswahl von Weinen\, Broten und Soßen. Der Preis pro Person liegt bei 59€
URL:https://fromagerie-dresden.de/event/geniesserabend-eine-kulinarische-reise-durch-die-welt-der-kaese-5/
END:VEVENT
END:VCALENDAR