BEGIN:VCALENDAR
VERSION:2.0
PRODID:-// - ECPv6.15.20//NONSGML v1.0//EN
CALSCALE:GREGORIAN
METHOD:PUBLISH
X-ORIGINAL-URL:https://fromagerie-dresden.de
X-WR-CALDESC:Veranstaltungen für 
REFRESH-INTERVAL;VALUE=DURATION:PT1H
X-Robots-Tag:noindex
X-PUBLISHED-TTL:PT1H
BEGIN:VTIMEZONE
TZID:Europe/Paris
BEGIN:DAYLIGHT
TZOFFSETFROM:+0100
TZOFFSETTO:+0200
TZNAME:CEST
DTSTART:20250330T010000
END:DAYLIGHT
BEGIN:STANDARD
TZOFFSETFROM:+0200
TZOFFSETTO:+0100
TZNAME:CET
DTSTART:20251026T010000
END:STANDARD
BEGIN:DAYLIGHT
TZOFFSETFROM:+0100
TZOFFSETTO:+0200
TZNAME:CEST
DTSTART:20260329T010000
END:DAYLIGHT
BEGIN:STANDARD
TZOFFSETFROM:+0200
TZOFFSETTO:+0100
TZNAME:CET
DTSTART:20261025T010000
END:STANDARD
BEGIN:DAYLIGHT
TZOFFSETFROM:+0100
TZOFFSETTO:+0200
TZNAME:CEST
DTSTART:20270328T010000
END:DAYLIGHT
BEGIN:STANDARD
TZOFFSETFROM:+0200
TZOFFSETTO:+0100
TZNAME:CET
DTSTART:20271031T010000
END:STANDARD
END:VTIMEZONE
BEGIN:VEVENT
DTSTART;TZID=Europe/Paris:20260122T190000
DTEND;TZID=Europe/Paris:20260122T210000
DTSTAMP:20260421T125802
CREATED:20251121T153834Z
LAST-MODIFIED:20260115T151004Z
UID:1373-1769108400-1769115600@fromagerie-dresden.de
SUMMARY:L´ amour für den Gaumen- Käsegenuss aus Frankreich
DESCRIPTION:aktuell -AUSGEBUCHT- Genießen Sie eine kleine Vorspeise\, gefolgt von 10 verschiedenen französischen Käse in Begleitung mit einer Auswahl von französischen Weinen\, Broten und Soßen. Der Preis pro Person liegt bei 59€
URL:https://fromagerie-dresden.de/event/l-amour-fuer-den-gaumen-kaesegenuss-aus-frankreich/
END:VEVENT
BEGIN:VEVENT
DTSTART;TZID=Europe/Paris:20260123T190000
DTEND;TZID=Europe/Paris:20260123T210000
DTSTAMP:20260421T125802
CREATED:20251121T155644Z
LAST-MODIFIED:20251211T140409Z
UID:1388-1769194800-1769202000@fromagerie-dresden.de
SUMMARY:Genießerabend – Eine kulinarische Reise durch die Welt der Käse
DESCRIPTION:aktuell 1 freier Platz Genießen Sie eine kleine Vorspeise\, gefolgt von 10 verschiedenen Käse in Begleitung mit einer Auswahl von Weinen\, Broten und Soßen. Der Preis pro Person liegt bei 59€
URL:https://fromagerie-dresden.de/event/geniesserabend-eine-kulinarische-reise-durch-die-welt-der-kaese-2/
END:VEVENT
BEGIN:VEVENT
DTSTART;TZID=Europe/Paris:20260130T190000
DTEND;TZID=Europe/Paris:20260130T210000
DTSTAMP:20260421T125802
CREATED:20251121T160004Z
LAST-MODIFIED:20260122T123254Z
UID:1390-1769799600-1769806800@fromagerie-dresden.de
SUMMARY:Genießerabend – Eine kulinarische Reise durch die Welt der Käse
DESCRIPTION:aktuell 4 freie Plätze  Genießen Sie eine kleine Vorspeise\, gefolgt von 10 verschiedenen Käse in Begleitung mit einer Auswahl von Weinen\, Broten und Soßen. Der Preis pro Person liegt bei 59€
URL:https://fromagerie-dresden.de/event/geniesserabend-eine-kulinarische-reise-durch-die-welt-der-kaese-3/
END:VEVENT
BEGIN:VEVENT
DTSTART;TZID=Europe/Paris:20260131T170000
DTEND;TZID=Europe/Paris:20260131T190000
DTSTAMP:20260421T125802
CREATED:20251121T162623Z
LAST-MODIFIED:20260107T111519Z
UID:1424-1769878800-1769886000@fromagerie-dresden.de
SUMMARY:Eine kleine Italienreise - Mehr als nur Parmesan und Chianti
DESCRIPTION:aktuell -AUSGEBUCHT-  Genießen Sie eine kleine Vorspeise\, gefolgt von 10 verschiedenen italienischen Käse in Begleitung mit einer Auswahl von italienischen Weinen\, Broten und Soßen. Der Preis pro Person liegt bei 59€
URL:https://fromagerie-dresden.de/event/eine-kleine-italienreise-mehr-als-nur-parmesan-und-chianti/
END:VEVENT
END:VCALENDAR